BEGIN:VCALENDAR
VERSION:2.0
PRODID:-//Beaverlodge - ECPv6.15.20//NONSGML v1.0//EN
CALSCALE:GREGORIAN
METHOD:PUBLISH
X-WR-CALNAME:Beaverlodge
X-ORIGINAL-URL:https://beaverlodge.ca
X-WR-CALDESC:Events for Beaverlodge
REFRESH-INTERVAL;VALUE=DURATION:PT1H
X-Robots-Tag:noindex
X-PUBLISHED-TTL:PT1H
BEGIN:VTIMEZONE
TZID:America/Edmonton
BEGIN:DAYLIGHT
TZOFFSETFROM:-0700
TZOFFSETTO:-0600
TZNAME:MDT
DTSTART:20230312T090000
END:DAYLIGHT
BEGIN:STANDARD
TZOFFSETFROM:-0600
TZOFFSETTO:-0700
TZNAME:MST
DTSTART:20231105T080000
END:STANDARD
BEGIN:DAYLIGHT
TZOFFSETFROM:-0700
TZOFFSETTO:-0600
TZNAME:MDT
DTSTART:20240310T090000
END:DAYLIGHT
BEGIN:STANDARD
TZOFFSETFROM:-0600
TZOFFSETTO:-0700
TZNAME:MST
DTSTART:20241103T080000
END:STANDARD
BEGIN:DAYLIGHT
TZOFFSETFROM:-0700
TZOFFSETTO:-0600
TZNAME:MDT
DTSTART:20250309T090000
END:DAYLIGHT
BEGIN:STANDARD
TZOFFSETFROM:-0600
TZOFFSETTO:-0700
TZNAME:MST
DTSTART:20251102T080000
END:STANDARD
BEGIN:DAYLIGHT
TZOFFSETFROM:-0700
TZOFFSETTO:-0600
TZNAME:MDT
DTSTART:20260308T090000
END:DAYLIGHT
BEGIN:STANDARD
TZOFFSETFROM:-0600
TZOFFSETTO:-0700
TZNAME:MST
DTSTART:20261101T080000
END:STANDARD
BEGIN:DAYLIGHT
TZOFFSETFROM:-0700
TZOFFSETTO:-0600
TZNAME:MDT
DTSTART:20270314T090000
END:DAYLIGHT
BEGIN:STANDARD
TZOFFSETFROM:-0600
TZOFFSETTO:-0700
TZNAME:MST
DTSTART:20271107T080000
END:STANDARD
END:VTIMEZONE
BEGIN:VEVENT
DTSTART;TZID=America/Edmonton:20251224T100000
DTEND;TZID=America/Edmonton:20260117T163000
DTSTAMP:20260423T193803
CREATED:20250807T175556Z
LAST-MODIFIED:20250807T175556Z
UID:10002071-1766570400-1768667400@beaverlodge.ca
SUMMARY:December Art Exhibit and Sale & Christmas Gift Shop
DESCRIPTION:Come check out our December art show and sale\, and find yourself a gift for all the special someones on your list! \nPrint artists North will be showing in our main gallery. In our mini gallery will be a Christmas sale featuring numerous artists and mediums/ There’ll be something for everyone here! \nJoin us on opening day\, November 30th\, at 2PM to check out the exhibits\, meet the artists\, and enjoy complementary food and beverages. The show will run until December 24th\, and will be free to see during all open hours.
URL:https://beaverlodge.ca/event/december-art-exhibit-and-sale-christmas-gift-shop/2025-12-24
LOCATION:Beaverlodge Art and Cultural Centre\, 512 - 5th Ave\, Beaverlodge\, AB\, T0H0C0\, Canada
END:VEVENT
BEGIN:VEVENT
DTSTART;TZID=America/Edmonton:20251221T100000
DTEND;TZID=America/Edmonton:20260114T163000
DTSTAMP:20260423T193803
CREATED:20250807T175556Z
LAST-MODIFIED:20250807T175556Z
UID:10002070-1766311200-1768408200@beaverlodge.ca
SUMMARY:December Art Exhibit and Sale & Christmas Gift Shop
DESCRIPTION:Come check out our December art show and sale\, and find yourself a gift for all the special someones on your list! \nPrint artists North will be showing in our main gallery. In our mini gallery will be a Christmas sale featuring numerous artists and mediums/ There’ll be something for everyone here! \nJoin us on opening day\, November 30th\, at 2PM to check out the exhibits\, meet the artists\, and enjoy complementary food and beverages. The show will run until December 24th\, and will be free to see during all open hours.
URL:https://beaverlodge.ca/event/december-art-exhibit-and-sale-christmas-gift-shop/2025-12-21
LOCATION:Beaverlodge Art and Cultural Centre\, 512 - 5th Ave\, Beaverlodge\, AB\, T0H0C0\, Canada
END:VEVENT
BEGIN:VEVENT
DTSTART;TZID=America/Edmonton:20251217T100000
DTEND;TZID=America/Edmonton:20260110T163000
DTSTAMP:20260423T193803
CREATED:20250807T175556Z
LAST-MODIFIED:20250807T175556Z
UID:10002069-1765965600-1768062600@beaverlodge.ca
SUMMARY:December Art Exhibit and Sale & Christmas Gift Shop
DESCRIPTION:Come check out our December art show and sale\, and find yourself a gift for all the special someones on your list! \nPrint artists North will be showing in our main gallery. In our mini gallery will be a Christmas sale featuring numerous artists and mediums/ There’ll be something for everyone here! \nJoin us on opening day\, November 30th\, at 2PM to check out the exhibits\, meet the artists\, and enjoy complementary food and beverages. The show will run until December 24th\, and will be free to see during all open hours.
URL:https://beaverlodge.ca/event/december-art-exhibit-and-sale-christmas-gift-shop/2025-12-17
LOCATION:Beaverlodge Art and Cultural Centre\, 512 - 5th Ave\, Beaverlodge\, AB\, T0H0C0\, Canada
END:VEVENT
BEGIN:VEVENT
DTSTART;TZID=America/Edmonton:20251214T100000
DTEND;TZID=America/Edmonton:20260107T163000
DTSTAMP:20260423T193803
CREATED:20250807T175556Z
LAST-MODIFIED:20250807T175556Z
UID:10002068-1765706400-1767803400@beaverlodge.ca
SUMMARY:December Art Exhibit and Sale & Christmas Gift Shop
DESCRIPTION:Come check out our December art show and sale\, and find yourself a gift for all the special someones on your list! \nPrint artists North will be showing in our main gallery. In our mini gallery will be a Christmas sale featuring numerous artists and mediums/ There’ll be something for everyone here! \nJoin us on opening day\, November 30th\, at 2PM to check out the exhibits\, meet the artists\, and enjoy complementary food and beverages. The show will run until December 24th\, and will be free to see during all open hours.
URL:https://beaverlodge.ca/event/december-art-exhibit-and-sale-christmas-gift-shop/2025-12-14
LOCATION:Beaverlodge Art and Cultural Centre\, 512 - 5th Ave\, Beaverlodge\, AB\, T0H0C0\, Canada
END:VEVENT
BEGIN:VEVENT
DTSTART;TZID=America/Edmonton:20251210T100000
DTEND;TZID=America/Edmonton:20260103T163000
DTSTAMP:20260423T193803
CREATED:20250807T175556Z
LAST-MODIFIED:20250807T175556Z
UID:10002067-1765360800-1767457800@beaverlodge.ca
SUMMARY:December Art Exhibit and Sale & Christmas Gift Shop
DESCRIPTION:Come check out our December art show and sale\, and find yourself a gift for all the special someones on your list! \nPrint artists North will be showing in our main gallery. In our mini gallery will be a Christmas sale featuring numerous artists and mediums/ There’ll be something for everyone here! \nJoin us on opening day\, November 30th\, at 2PM to check out the exhibits\, meet the artists\, and enjoy complementary food and beverages. The show will run until December 24th\, and will be free to see during all open hours.
URL:https://beaverlodge.ca/event/december-art-exhibit-and-sale-christmas-gift-shop/2025-12-10
LOCATION:Beaverlodge Art and Cultural Centre\, 512 - 5th Ave\, Beaverlodge\, AB\, T0H0C0\, Canada
END:VEVENT
BEGIN:VEVENT
DTSTART;TZID=America/Edmonton:20251207T100000
DTEND;TZID=America/Edmonton:20251231T163000
DTSTAMP:20260423T193803
CREATED:20250807T175556Z
LAST-MODIFIED:20250807T175556Z
UID:10002066-1765101600-1767198600@beaverlodge.ca
SUMMARY:December Art Exhibit and Sale & Christmas Gift Shop
DESCRIPTION:Come check out our December art show and sale\, and find yourself a gift for all the special someones on your list! \nPrint artists North will be showing in our main gallery. In our mini gallery will be a Christmas sale featuring numerous artists and mediums/ There’ll be something for everyone here! \nJoin us on opening day\, November 30th\, at 2PM to check out the exhibits\, meet the artists\, and enjoy complementary food and beverages. The show will run until December 24th\, and will be free to see during all open hours.
URL:https://beaverlodge.ca/event/december-art-exhibit-and-sale-christmas-gift-shop/2025-12-07
LOCATION:Beaverlodge Art and Cultural Centre\, 512 - 5th Ave\, Beaverlodge\, AB\, T0H0C0\, Canada
END:VEVENT
BEGIN:VEVENT
DTSTART;TZID=America/Edmonton:20251203T100000
DTEND;TZID=America/Edmonton:20251227T163000
DTSTAMP:20260423T193803
CREATED:20250807T175556Z
LAST-MODIFIED:20250807T175556Z
UID:10002065-1764756000-1766853000@beaverlodge.ca
SUMMARY:December Art Exhibit and Sale & Christmas Gift Shop
DESCRIPTION:Come check out our December art show and sale\, and find yourself a gift for all the special someones on your list! \nPrint artists North will be showing in our main gallery. In our mini gallery will be a Christmas sale featuring numerous artists and mediums/ There’ll be something for everyone here! \nJoin us on opening day\, November 30th\, at 2PM to check out the exhibits\, meet the artists\, and enjoy complementary food and beverages. The show will run until December 24th\, and will be free to see during all open hours.
URL:https://beaverlodge.ca/event/december-art-exhibit-and-sale-christmas-gift-shop/2025-12-03
LOCATION:Beaverlodge Art and Cultural Centre\, 512 - 5th Ave\, Beaverlodge\, AB\, T0H0C0\, Canada
END:VEVENT
BEGIN:VEVENT
DTSTART;TZID=America/Edmonton:20251130T100000
DTEND;TZID=America/Edmonton:20251224T163000
DTSTAMP:20260423T193803
CREATED:20250807T175556Z
LAST-MODIFIED:20250807T175556Z
UID:10002064-1764496800-1766593800@beaverlodge.ca
SUMMARY:December Art Exhibit and Sale & Christmas Gift Shop
DESCRIPTION:Come check out our December art show and sale\, and find yourself a gift for all the special someones on your list! \nPrint artists North will be showing in our main gallery. In our mini gallery will be a Christmas sale featuring numerous artists and mediums/ There’ll be something for everyone here! \nJoin us on opening day\, November 30th\, at 2PM to check out the exhibits\, meet the artists\, and enjoy complementary food and beverages. The show will run until December 24th\, and will be free to see during all open hours.
URL:https://beaverlodge.ca/event/december-art-exhibit-and-sale-christmas-gift-shop/2025-11-30
LOCATION:Beaverlodge Art and Cultural Centre\, 512 - 5th Ave\, Beaverlodge\, AB\, T0H0C0\, Canada
END:VEVENT
BEGIN:VEVENT
DTSTART;TZID=America/Edmonton:20251023T100000
DTEND;TZID=America/Edmonton:20251117T153000
DTSTAMP:20260423T193803
CREATED:20250807T173539Z
LAST-MODIFIED:20250807T174512Z
UID:10002054-1761213600-1763393400@beaverlodge.ca
SUMMARY:October Art Show & Sale
DESCRIPTION:Come check out our October Art show and sale\, and support our local artists! \nEmily Lozeron and Lisa Ramer will be showing in the main gallery. Christina Good will be showing the mini gallery. \nJoin us on September 28\, opening day\, to check out the show\, meet the artists\, and enjoy complementary food and beverages. The show will be free to see until October 23 during all opening hours.
URL:https://beaverlodge.ca/event/october-art-show-sale/2025-10-23
LOCATION:Beaverlodge Art and Cultural Centre\, 512 - 5th Ave\, Beaverlodge\, AB\, T0H0C0\, Canada
END:VEVENT
BEGIN:VEVENT
DTSTART;TZID=America/Edmonton:20251019T100000
DTEND;TZID=America/Edmonton:20251113T153000
DTSTAMP:20260423T193803
CREATED:20250807T173539Z
LAST-MODIFIED:20250807T174512Z
UID:10001831-1760868000-1763047800@beaverlodge.ca
SUMMARY:October Art Show & Sale
DESCRIPTION:Come check out our October Art show and sale\, and support our local artists! \nEmily Lozeron and Lisa Ramer will be showing in the main gallery. Christina Good will be showing the mini gallery. \nJoin us on September 28\, opening day\, to check out the show\, meet the artists\, and enjoy complementary food and beverages. The show will be free to see until October 23 during all opening hours.
URL:https://beaverlodge.ca/event/october-art-show-sale/2025-10-19
LOCATION:Beaverlodge Art and Cultural Centre\, 512 - 5th Ave\, Beaverlodge\, AB\, T0H0C0\, Canada
END:VEVENT
BEGIN:VEVENT
DTSTART;TZID=America/Edmonton:20251016T100000
DTEND;TZID=America/Edmonton:20251110T153000
DTSTAMP:20260423T193803
CREATED:20250807T173539Z
LAST-MODIFIED:20250807T174512Z
UID:10002053-1760608800-1762788600@beaverlodge.ca
SUMMARY:October Art Show & Sale
DESCRIPTION:Come check out our October Art show and sale\, and support our local artists! \nEmily Lozeron and Lisa Ramer will be showing in the main gallery. Christina Good will be showing the mini gallery. \nJoin us on September 28\, opening day\, to check out the show\, meet the artists\, and enjoy complementary food and beverages. The show will be free to see until October 23 during all opening hours.
URL:https://beaverlodge.ca/event/october-art-show-sale/2025-10-16
LOCATION:Beaverlodge Art and Cultural Centre\, 512 - 5th Ave\, Beaverlodge\, AB\, T0H0C0\, Canada
END:VEVENT
BEGIN:VEVENT
DTSTART;TZID=America/Edmonton:20251012T100000
DTEND;TZID=America/Edmonton:20251106T153000
DTSTAMP:20260423T193804
CREATED:20250807T173539Z
LAST-MODIFIED:20250807T174512Z
UID:10001829-1760263200-1762443000@beaverlodge.ca
SUMMARY:October Art Show & Sale
DESCRIPTION:Come check out our October Art show and sale\, and support our local artists! \nEmily Lozeron and Lisa Ramer will be showing in the main gallery. Christina Good will be showing the mini gallery. \nJoin us on September 28\, opening day\, to check out the show\, meet the artists\, and enjoy complementary food and beverages. The show will be free to see until October 23 during all opening hours.
URL:https://beaverlodge.ca/event/october-art-show-sale/2025-10-12
LOCATION:Beaverlodge Art and Cultural Centre\, 512 - 5th Ave\, Beaverlodge\, AB\, T0H0C0\, Canada
END:VEVENT
BEGIN:VEVENT
DTSTART;TZID=America/Edmonton:20251009T100000
DTEND;TZID=America/Edmonton:20251103T153000
DTSTAMP:20260423T193804
CREATED:20250807T173539Z
LAST-MODIFIED:20250807T174512Z
UID:10002052-1760004000-1762183800@beaverlodge.ca
SUMMARY:October Art Show & Sale
DESCRIPTION:Come check out our October Art show and sale\, and support our local artists! \nEmily Lozeron and Lisa Ramer will be showing in the main gallery. Christina Good will be showing the mini gallery. \nJoin us on September 28\, opening day\, to check out the show\, meet the artists\, and enjoy complementary food and beverages. The show will be free to see until October 23 during all opening hours.
URL:https://beaverlodge.ca/event/october-art-show-sale/2025-10-09
LOCATION:Beaverlodge Art and Cultural Centre\, 512 - 5th Ave\, Beaverlodge\, AB\, T0H0C0\, Canada
END:VEVENT
BEGIN:VEVENT
DTSTART;TZID=America/Edmonton:20251005T100000
DTEND;TZID=America/Edmonton:20251030T163000
DTSTAMP:20260423T193804
CREATED:20250807T173539Z
LAST-MODIFIED:20250807T174512Z
UID:10001827-1759658400-1761841800@beaverlodge.ca
SUMMARY:October Art Show & Sale
DESCRIPTION:Come check out our October Art show and sale\, and support our local artists! \nEmily Lozeron and Lisa Ramer will be showing in the main gallery. Christina Good will be showing the mini gallery. \nJoin us on September 28\, opening day\, to check out the show\, meet the artists\, and enjoy complementary food and beverages. The show will be free to see until October 23 during all opening hours.
URL:https://beaverlodge.ca/event/october-art-show-sale/2025-10-05
LOCATION:Beaverlodge Art and Cultural Centre\, 512 - 5th Ave\, Beaverlodge\, AB\, T0H0C0\, Canada
END:VEVENT
BEGIN:VEVENT
DTSTART;TZID=America/Edmonton:20251002T100000
DTEND;TZID=America/Edmonton:20251027T163000
DTSTAMP:20260423T193804
CREATED:20250807T173539Z
LAST-MODIFIED:20250807T174512Z
UID:10002051-1759399200-1761582600@beaverlodge.ca
SUMMARY:October Art Show & Sale
DESCRIPTION:Come check out our October Art show and sale\, and support our local artists! \nEmily Lozeron and Lisa Ramer will be showing in the main gallery. Christina Good will be showing the mini gallery. \nJoin us on September 28\, opening day\, to check out the show\, meet the artists\, and enjoy complementary food and beverages. The show will be free to see until October 23 during all opening hours.
URL:https://beaverlodge.ca/event/october-art-show-sale/2025-10-02
LOCATION:Beaverlodge Art and Cultural Centre\, 512 - 5th Ave\, Beaverlodge\, AB\, T0H0C0\, Canada
END:VEVENT
BEGIN:VEVENT
DTSTART;TZID=America/Edmonton:20250925T100000
DTEND;TZID=America/Edmonton:20251020T170000
DTSTAMP:20260423T193804
CREATED:20250807T172815Z
LAST-MODIFIED:20250807T174725Z
UID:10002058-1758794400-1760979600@beaverlodge.ca
SUMMARY:September Art Exhibit & Sale
DESCRIPTION:Come check out our art show and sale and support our local artists! \nCarmen Haakstad will be showing in the main gallery with Lenka Nowlan in our main gallery. \nJoin us at 2Pm on August 31\, opening day\, to check out the show\, meet the artists and enjoy complementary food and beverages. Show runs until the 25 of September and will be free to check out during all open hours. \n 
URL:https://beaverlodge.ca/event/art-exhibit-sale/2025-09-25
LOCATION:Beaverlodge Art and Cultural Centre\, 512 - 5th Ave\, Beaverlodge\, AB\, T0H0C0\, Canada
END:VEVENT
BEGIN:VEVENT
DTSTART;TZID=America/Edmonton:20250921T100000
DTEND;TZID=America/Edmonton:20251016T170000
DTSTAMP:20260423T193804
CREATED:20250807T172815Z
LAST-MODIFIED:20250807T174725Z
UID:10001719-1758448800-1760634000@beaverlodge.ca
SUMMARY:September Art Exhibit & Sale
DESCRIPTION:Come check out our art show and sale and support our local artists! \nCarmen Haakstad will be showing in the main gallery with Lenka Nowlan in our main gallery. \nJoin us at 2Pm on August 31\, opening day\, to check out the show\, meet the artists and enjoy complementary food and beverages. Show runs until the 25 of September and will be free to check out during all open hours. \n 
URL:https://beaverlodge.ca/event/art-exhibit-sale/2025-09-21
LOCATION:Beaverlodge Art and Cultural Centre\, 512 - 5th Ave\, Beaverlodge\, AB\, T0H0C0\, Canada
END:VEVENT
BEGIN:VEVENT
DTSTART;TZID=America/Edmonton:20250918T100000
DTEND;TZID=America/Edmonton:20251013T170000
DTSTAMP:20260423T193804
CREATED:20250807T172815Z
LAST-MODIFIED:20250807T174725Z
UID:10002057-1758189600-1760374800@beaverlodge.ca
SUMMARY:September Art Exhibit & Sale
DESCRIPTION:Come check out our art show and sale and support our local artists! \nCarmen Haakstad will be showing in the main gallery with Lenka Nowlan in our main gallery. \nJoin us at 2Pm on August 31\, opening day\, to check out the show\, meet the artists and enjoy complementary food and beverages. Show runs until the 25 of September and will be free to check out during all open hours. \n 
URL:https://beaverlodge.ca/event/art-exhibit-sale/2025-09-18
LOCATION:Beaverlodge Art and Cultural Centre\, 512 - 5th Ave\, Beaverlodge\, AB\, T0H0C0\, Canada
END:VEVENT
BEGIN:VEVENT
DTSTART;TZID=America/Edmonton:20250914T130000
DTEND;TZID=America/Edmonton:20250914T170000
DTSTAMP:20260423T193804
CREATED:20250711T191508Z
LAST-MODIFIED:20250807T172257Z
UID:10000987-1757854800-1757869200@beaverlodge.ca
SUMMARY:2025 Alberta Culture Days
DESCRIPTION:Join us at Alberta culture days for live music and dancing\, good food\, door prizes and so much more! \nFeaturing the Beaverlodge Art and craft clubs\, mural foundation\, McNaught preservation society\, as well as numerous other local artists and creators\, Alberta Culture Days is dedicated to capturing the spirit and history of the Beaverlodge area. \nCome down\, meet our artists\, participate in some of our art activities and discover more about the beautiful peace country! \nThe Traditional Path Society Indigenous Dancers will be preforming at 2:30pm on Saturday\, Sept 13. Satin Slippers dancers will be performing at 2:30 on Sunday Sept 14. \nThank you to the Government of Alberta for sponsoring this event.
URL:https://beaverlodge.ca/event/2025-alberta-culture-days/2025-09-14
LOCATION:Beaverlodge Art and Cultural Centre\, 512 - 5th Ave\, Beaverlodge\, AB\, T0H0C0\, Canada
END:VEVENT
BEGIN:VEVENT
DTSTART;TZID=America/Edmonton:20250914T100000
DTEND;TZID=America/Edmonton:20251009T170000
DTSTAMP:20260423T193804
CREATED:20250807T172815Z
LAST-MODIFIED:20250807T174725Z
UID:10001717-1757844000-1760029200@beaverlodge.ca
SUMMARY:September Art Exhibit & Sale
DESCRIPTION:Come check out our art show and sale and support our local artists! \nCarmen Haakstad will be showing in the main gallery with Lenka Nowlan in our main gallery. \nJoin us at 2Pm on August 31\, opening day\, to check out the show\, meet the artists and enjoy complementary food and beverages. Show runs until the 25 of September and will be free to check out during all open hours. \n 
URL:https://beaverlodge.ca/event/art-exhibit-sale/2025-09-14
LOCATION:Beaverlodge Art and Cultural Centre\, 512 - 5th Ave\, Beaverlodge\, AB\, T0H0C0\, Canada
END:VEVENT
BEGIN:VEVENT
DTSTART;TZID=America/Edmonton:20250913T130000
DTEND;TZID=America/Edmonton:20250913T170000
DTSTAMP:20260423T193804
CREATED:20250711T191508Z
LAST-MODIFIED:20250807T172257Z
UID:10000986-1757768400-1757782800@beaverlodge.ca
SUMMARY:2025 Alberta Culture Days
DESCRIPTION:Join us at Alberta culture days for live music and dancing\, good food\, door prizes and so much more! \nFeaturing the Beaverlodge Art and craft clubs\, mural foundation\, McNaught preservation society\, as well as numerous other local artists and creators\, Alberta Culture Days is dedicated to capturing the spirit and history of the Beaverlodge area. \nCome down\, meet our artists\, participate in some of our art activities and discover more about the beautiful peace country! \nThe Traditional Path Society Indigenous Dancers will be preforming at 2:30pm on Saturday\, Sept 13. Satin Slippers dancers will be performing at 2:30 on Sunday Sept 14. \nThank you to the Government of Alberta for sponsoring this event.
URL:https://beaverlodge.ca/event/2025-alberta-culture-days/2025-09-13
LOCATION:Beaverlodge Art and Cultural Centre\, 512 - 5th Ave\, Beaverlodge\, AB\, T0H0C0\, Canada
END:VEVENT
BEGIN:VEVENT
DTSTART;TZID=America/Edmonton:20250911T100000
DTEND;TZID=America/Edmonton:20251006T170000
DTSTAMP:20260423T193804
CREATED:20250807T172815Z
LAST-MODIFIED:20250807T174725Z
UID:10002056-1757584800-1759770000@beaverlodge.ca
SUMMARY:September Art Exhibit & Sale
DESCRIPTION:Come check out our art show and sale and support our local artists! \nCarmen Haakstad will be showing in the main gallery with Lenka Nowlan in our main gallery. \nJoin us at 2Pm on August 31\, opening day\, to check out the show\, meet the artists and enjoy complementary food and beverages. Show runs until the 25 of September and will be free to check out during all open hours. \n 
URL:https://beaverlodge.ca/event/art-exhibit-sale/2025-09-11
LOCATION:Beaverlodge Art and Cultural Centre\, 512 - 5th Ave\, Beaverlodge\, AB\, T0H0C0\, Canada
END:VEVENT
BEGIN:VEVENT
DTSTART;TZID=America/Edmonton:20250907T100000
DTEND;TZID=America/Edmonton:20251002T170000
DTSTAMP:20260423T193804
CREATED:20250807T172815Z
LAST-MODIFIED:20250807T174725Z
UID:10001715-1757239200-1759424400@beaverlodge.ca
SUMMARY:September Art Exhibit & Sale
DESCRIPTION:Come check out our art show and sale and support our local artists! \nCarmen Haakstad will be showing in the main gallery with Lenka Nowlan in our main gallery. \nJoin us at 2Pm on August 31\, opening day\, to check out the show\, meet the artists and enjoy complementary food and beverages. Show runs until the 25 of September and will be free to check out during all open hours. \n 
URL:https://beaverlodge.ca/event/art-exhibit-sale/2025-09-07
LOCATION:Beaverlodge Art and Cultural Centre\, 512 - 5th Ave\, Beaverlodge\, AB\, T0H0C0\, Canada
END:VEVENT
BEGIN:VEVENT
DTSTART;TZID=America/Edmonton:20250904T100000
DTEND;TZID=America/Edmonton:20250929T170000
DTSTAMP:20260423T193804
CREATED:20250807T172815Z
LAST-MODIFIED:20250807T174725Z
UID:10002055-1756980000-1759165200@beaverlodge.ca
SUMMARY:September Art Exhibit & Sale
DESCRIPTION:Come check out our art show and sale and support our local artists! \nCarmen Haakstad will be showing in the main gallery with Lenka Nowlan in our main gallery. \nJoin us at 2Pm on August 31\, opening day\, to check out the show\, meet the artists and enjoy complementary food and beverages. Show runs until the 25 of September and will be free to check out during all open hours. \n 
URL:https://beaverlodge.ca/event/art-exhibit-sale/2025-09-04
LOCATION:Beaverlodge Art and Cultural Centre\, 512 - 5th Ave\, Beaverlodge\, AB\, T0H0C0\, Canada
END:VEVENT
BEGIN:VEVENT
DTSTART;TZID=America/Edmonton:20250831T100000
DTEND;TZID=America/Edmonton:20250925T170000
DTSTAMP:20260423T193804
CREATED:20250807T172815Z
LAST-MODIFIED:20250807T174725Z
UID:10000989-1756634400-1758819600@beaverlodge.ca
SUMMARY:September Art Exhibit & Sale
DESCRIPTION:Come check out our art show and sale and support our local artists! \nCarmen Haakstad will be showing in the main gallery with Lenka Nowlan in our main gallery. \nJoin us at 2Pm on August 31\, opening day\, to check out the show\, meet the artists and enjoy complementary food and beverages. Show runs until the 25 of September and will be free to check out during all open hours. \n 
URL:https://beaverlodge.ca/event/art-exhibit-sale/2025-08-31
LOCATION:Beaverlodge Art and Cultural Centre\, 512 - 5th Ave\, Beaverlodge\, AB\, T0H0C0\, Canada
END:VEVENT
BEGIN:VEVENT
DTSTART;TZID=America/Edmonton:20240907T130000
DTEND;TZID=America/Edmonton:20240908T170000
DTSTAMP:20260423T193804
CREATED:20240709T175555Z
LAST-MODIFIED:20240709T175555Z
UID:10000795-1725714000-1725814800@beaverlodge.ca
SUMMARY:Alberta Culture Days
DESCRIPTION:Alberta Culture Days is the province’s month-long celebration of arts\, heritage\, diversity and community spirit\, hosted by community organizations. It is an opportunity for all Albertans to discover\, experience and celebrate arts and culture by attending or hosting local events and activities across the province. \nemail: touristinfo.bacs@gmail.com \n  \nhttps://culturedays.ca/en/ab \n 
URL:https://beaverlodge.ca/event/alberta-culture-days
LOCATION:Beaverlodge Art and Cultural Centre\, 512 - 5th Ave\, Beaverlodge\, AB\, T0H0C0\, Canada
END:VEVENT
END:VCALENDAR