BEGIN:VCALENDAR
VERSION:2.0
PRODID:-//Beaverlodge - ECPv6.15.20//NONSGML v1.0//EN
CALSCALE:GREGORIAN
METHOD:PUBLISH
X-WR-CALNAME:Beaverlodge
X-ORIGINAL-URL:https://beaverlodge.ca
X-WR-CALDESC:Events for Beaverlodge
REFRESH-INTERVAL;VALUE=DURATION:PT1H
X-Robots-Tag:noindex
X-PUBLISHED-TTL:PT1H
BEGIN:VTIMEZONE
TZID:America/Edmonton
BEGIN:DAYLIGHT
TZOFFSETFROM:-0700
TZOFFSETTO:-0600
TZNAME:MDT
DTSTART:20230312T090000
END:DAYLIGHT
BEGIN:STANDARD
TZOFFSETFROM:-0600
TZOFFSETTO:-0700
TZNAME:MST
DTSTART:20231105T080000
END:STANDARD
BEGIN:DAYLIGHT
TZOFFSETFROM:-0700
TZOFFSETTO:-0600
TZNAME:MDT
DTSTART:20240310T090000
END:DAYLIGHT
BEGIN:STANDARD
TZOFFSETFROM:-0600
TZOFFSETTO:-0700
TZNAME:MST
DTSTART:20241103T080000
END:STANDARD
BEGIN:DAYLIGHT
TZOFFSETFROM:-0700
TZOFFSETTO:-0600
TZNAME:MDT
DTSTART:20250309T090000
END:DAYLIGHT
BEGIN:STANDARD
TZOFFSETFROM:-0600
TZOFFSETTO:-0700
TZNAME:MST
DTSTART:20251102T080000
END:STANDARD
BEGIN:DAYLIGHT
TZOFFSETFROM:-0700
TZOFFSETTO:-0600
TZNAME:MDT
DTSTART:20260308T090000
END:DAYLIGHT
BEGIN:STANDARD
TZOFFSETFROM:-0600
TZOFFSETTO:-0700
TZNAME:MST
DTSTART:20261101T080000
END:STANDARD
END:VTIMEZONE
BEGIN:VEVENT
DTSTART;TZID=America/Edmonton:20250905T190000
DTEND;TZID=America/Edmonton:20250905T223000
DTSTAMP:20260425T083125
CREATED:20250903T165159Z
LAST-MODIFIED:20250903T165159Z
UID:10002074-1757098800-1757111400@beaverlodge.ca
SUMMARY:Harvest Festival - Movie Night
DESCRIPTION:
URL:https://beaverlodge.ca/event/harvest-festival-movie-night
LOCATION:South Peace Centennial Museum
END:VEVENT
BEGIN:VEVENT
DTSTART;VALUE=DATE:20250905
DTEND;VALUE=DATE:20250907
DTSTAMP:20260425T083125
CREATED:20250903T165353Z
LAST-MODIFIED:20250903T165454Z
UID:10002075-1757030400-1757203199@beaverlodge.ca
SUMMARY:Harvest Festival 2025
DESCRIPTION:                                 
URL:https://beaverlodge.ca/event/harvest-festival-2025
LOCATION:South Peace Centennial Museum
END:VEVENT
BEGIN:VEVENT
DTSTART;VALUE=DATE:20250719
DTEND;VALUE=DATE:20250721
DTSTAMP:20260425T083125
CREATED:20250703T154745Z
LAST-MODIFIED:20250703T154745Z
UID:10000982-1752883200-1753055999@beaverlodge.ca
SUMMARY:Pioneer Days - South Peace Centennial Museum
DESCRIPTION:Check their Facebook page for more information.
URL:https://beaverlodge.ca/event/pioneer-days-south-peace-centennial-museum
LOCATION:South Peace Centennial Museum
END:VEVENT
BEGIN:VEVENT
DTSTART;TZID=America/Edmonton:20241215T130000
DTEND;TZID=America/Edmonton:20241215T180000
DTSTAMP:20260425T083125
CREATED:20241127T225708Z
LAST-MODIFIED:20241127T225708Z
UID:10000884-1734267600-1734285600@beaverlodge.ca
SUMMARY:Old Fashioned Christmas - South Peace Centennial Museum
DESCRIPTION:
URL:https://beaverlodge.ca/event/old-fashioned-christmas-south-peace-centennial-museum-3
LOCATION:South Peace Centennial Museum
END:VEVENT
BEGIN:VEVENT
DTSTART;TZID=America/Edmonton:20241214T130000
DTEND;TZID=America/Edmonton:20241214T200000
DTSTAMP:20260425T083125
CREATED:20241127T225621Z
LAST-MODIFIED:20241127T225621Z
UID:10000883-1734181200-1734206400@beaverlodge.ca
SUMMARY:Old Fashioned Christmas - South Peace Centennial Museum
DESCRIPTION:
URL:https://beaverlodge.ca/event/old-fashioned-christmas-south-peace-centennial-museum-2
LOCATION:South Peace Centennial Museum
END:VEVENT
BEGIN:VEVENT
DTSTART;TZID=America/Edmonton:20241213T160000
DTEND;TZID=America/Edmonton:20241213T200000
DTSTAMP:20260425T083125
CREATED:20241127T225542Z
LAST-MODIFIED:20241127T225542Z
UID:10000882-1734105600-1734120000@beaverlodge.ca
SUMMARY:Old Fashioned Christmas - South Peace Centennial Museum
DESCRIPTION:
URL:https://beaverlodge.ca/event/old-fashioned-christmas-south-peace-centennial-museum
LOCATION:South Peace Centennial Museum
END:VEVENT
BEGIN:VEVENT
DTSTART;TZID=America/Edmonton:20241025T160000
DTEND;TZID=America/Edmonton:20241025T230000
DTSTAMP:20260425T083125
CREATED:20241017T225549Z
LAST-MODIFIED:20241017T225732Z
UID:10000844-1729872000-1729897200@beaverlodge.ca
SUMMARY:Halloween at the Museum
DESCRIPTION:
URL:https://beaverlodge.ca/event/halloween-at-the-museum-day-1
LOCATION:South Peace Centennial Museum
END:VEVENT
BEGIN:VEVENT
DTSTART;TZID=America/Edmonton:20240907T080000
DTEND;TZID=America/Edmonton:20240907T220000
DTSTAMP:20260425T083125
CREATED:20240222T180020Z
LAST-MODIFIED:20240222T180020Z
UID:10000327-1725696000-1725746400@beaverlodge.ca
SUMMARY:Harvest Festival
DESCRIPTION:
URL:https://beaverlodge.ca/event/harvest-festival-2
LOCATION:South Peace Centennial Museum
END:VEVENT
BEGIN:VEVENT
DTSTART;VALUE=DATE:20240802
DTEND;VALUE=DATE:20240805
DTSTAMP:20260425T083125
CREATED:20240222T175933Z
LAST-MODIFIED:20240705T205846Z
UID:10000326-1722556800-1722815999@beaverlodge.ca
SUMMARY:Peace Country Gospel Jamboree
DESCRIPTION:
URL:https://beaverlodge.ca/event/peace-country-gospel-jamboree-3
LOCATION:South Peace Centennial Museum
END:VEVENT
BEGIN:VEVENT
DTSTART;VALUE=DATE:20240720
DTEND;VALUE=DATE:20240722
DTSTAMP:20260425T083125
CREATED:20240222T175838Z
LAST-MODIFIED:20240705T210440Z
UID:10000325-1721433600-1721606399@beaverlodge.ca
SUMMARY:Pioneer Days: Step Back in Time
DESCRIPTION:
URL:https://beaverlodge.ca/event/pioneer-days-step-back-in-time
LOCATION:South Peace Centennial Museum
END:VEVENT
BEGIN:VEVENT
DTSTART;TZID=America/Edmonton:20240602T110000
DTEND;TZID=America/Edmonton:20240602T160000
DTSTAMP:20260425T083125
CREATED:20240222T175637Z
LAST-MODIFIED:20240222T175637Z
UID:10000324-1717326000-1717344000@beaverlodge.ca
SUMMARY:Show & Shine\, Tailgate Garage Sale & Farmer's Market
DESCRIPTION:
URL:https://beaverlodge.ca/event/show-shine-tailgate-garage-sale-farmers-market
LOCATION:South Peace Centennial Museum
END:VEVENT
END:VCALENDAR